Package: partCNV Version: 1.9.0 Command: /Library/Frameworks/R.framework/Resources/bin/R CMD build --keep-empty-dirs --no-resave-data partCNV StartedAt: 2025-11-21 17:14:13 -0500 (Fri, 21 Nov 2025) EndedAt: 2025-11-21 17:14:53 -0500 (Fri, 21 Nov 2025) EllapsedTime: 40.5 seconds RetCode: 0 Status: OK PackageFile: partCNV_1.9.0.tar.gz PackageFileSize: 4.664 MiB