Package: partCNV Version: 1.9.0 Command: rm -rf partCNV.buildbin-libdir && mkdir partCNV.buildbin-libdir && /Users/biocbuild/BBS/utils/build-universal.sh partCNV_1.9.0.tar.gz /Library/Frameworks/R.framework/Resources/bin/R partCNV.buildbin-libdir StartedAt: 2025-11-21 23:44:33 -0500 (Fri, 21 Nov 2025) EndedAt: 2025-11-21 23:44:54 -0500 (Fri, 21 Nov 2025) EllapsedTime: 20.6 seconds RetCode: 0 Status: OK PackageFile: partCNV_1.9.0.tgz PackageFileSize: 4.684 MiB