Package: parody Version: 1.69.0 Command: /home/biocbuild/bbs-3.23-bioc/R/bin/R CMD INSTALL parody StartedAt: 2025-11-16 15:04:02 -0500 (Sun, 16 Nov 2025) EndedAt: 2025-11-16 15:04:14 -0500 (Sun, 16 Nov 2025) EllapsedTime: 11.3 seconds RetCode: 0 Status: OK