Package: parody Version: 1.69.0 Command: /home/biocbuild/bbs-3.23-bioc/R/bin/R CMD build --keep-empty-dirs --no-resave-data parody StartedAt: 2025-11-16 19:16:49 -0500 (Sun, 16 Nov 2025) EndedAt: 2025-11-16 19:16:55 -0500 (Sun, 16 Nov 2025) EllapsedTime: 6.0 seconds RetCode: 0 Status: OK PackageFile: parody_1.69.0.tar.gz PackageFileSize: 488.7 KiB