Package: parody Version: 1.69.0 Command: /Library/Frameworks/R.framework/Resources/bin/R CMD INSTALL parody StartedAt: 2025-11-20 15:01:57 -0500 (Thu, 20 Nov 2025) EndedAt: 2025-11-20 15:01:59 -0500 (Thu, 20 Nov 2025) EllapsedTime: 2.2 seconds RetCode: 0 Status: OK