Package: parody Version: 1.69.0 Command: /Library/Frameworks/R.framework/Resources/bin/R CMD build --keep-empty-dirs --no-resave-data parody StartedAt: 2025-11-20 17:15:37 -0500 (Thu, 20 Nov 2025) EndedAt: 2025-11-20 17:15:42 -0500 (Thu, 20 Nov 2025) EllapsedTime: 5.1 seconds RetCode: 0 Status: OK PackageFile: parody_1.69.0.tar.gz PackageFileSize: 481.1 KiB