Package: parody Version: 1.69.0 Command: rm -rf parody.buildbin-libdir && mkdir parody.buildbin-libdir && /Users/biocbuild/BBS/utils/build-universal.sh parody_1.69.0.tar.gz /Library/Frameworks/R.framework/Resources/bin/R parody.buildbin-libdir StartedAt: 2025-11-20 23:45:32 -0500 (Thu, 20 Nov 2025) EndedAt: 2025-11-20 23:45:34 -0500 (Thu, 20 Nov 2025) EllapsedTime: 2.1 seconds RetCode: 0 Status: OK PackageFile: parody_1.69.0.tgz PackageFileSize: 525.4 KiB