Package: parglms Version: 1.41.0 Command: /home/biocbuild/bbs-3.22-bioc/R/bin/R CMD INSTALL parglms StartedAt: 2025-10-03 15:37:23 -0400 (Fri, 03 Oct 2025) EndedAt: 2025-10-03 15:37:26 -0400 (Fri, 03 Oct 2025) EllapsedTime: 3.7 seconds RetCode: 0 Status: OK