Package: parglms Version: 1.41.0 Command: /Library/Frameworks/R.framework/Resources/bin/R CMD INSTALL parglms StartedAt: 2025-10-24 15:21:54 -0400 (Fri, 24 Oct 2025) EndedAt: 2025-10-24 15:22:01 -0400 (Fri, 24 Oct 2025) EllapsedTime: 7.8 seconds RetCode: 0 Status: OK