Package: parglms Version: 1.41.0 Command: /Library/Frameworks/R.framework/Resources/bin/R CMD build --keep-empty-dirs --no-resave-data parglms StartedAt: 2025-10-24 18:11:26 -0400 (Fri, 24 Oct 2025) EndedAt: 2025-10-24 18:12:01 -0400 (Fri, 24 Oct 2025) EllapsedTime: 34.8 seconds RetCode: 0 Status: OK PackageFile: parglms_1.41.0.tar.gz PackageFileSize: 272.2 KiB