Package: parglms Version: 1.41.0 Command: /Library/Frameworks/R.framework/Resources/bin/R CMD INSTALL parglms StartedAt: 2025-10-06 15:19:54 -0400 (Mon, 06 Oct 2025) EndedAt: 2025-10-06 15:19:56 -0400 (Mon, 06 Oct 2025) EllapsedTime: 2.2 seconds RetCode: 0 Status: OK