Package: parglms Version: 1.41.0 Command: rm -rf parglms.buildbin-libdir && mkdir parglms.buildbin-libdir && /Users/biocbuild/BBS/utils/build-universal.sh parglms_1.41.0.tar.gz /Library/Frameworks/R.framework/Resources/bin/R parglms.buildbin-libdir StartedAt: 2025-10-07 22:55:51 -0400 (Tue, 07 Oct 2025) EndedAt: 2025-10-07 22:55:54 -0400 (Tue, 07 Oct 2025) EllapsedTime: 3.1 seconds RetCode: 0 Status: OK PackageFile: parglms_1.41.0.tgz PackageFileSize: 295.2 KiB