Package: panp Version: 1.81.0 Command: /home/biocbuild/bbs-3.23-bioc/R/bin/R CMD INSTALL panp StartedAt: 2025-11-20 15:12:10 -0500 (Thu, 20 Nov 2025) EndedAt: 2025-11-20 15:12:15 -0500 (Thu, 20 Nov 2025) EllapsedTime: 5.0 seconds RetCode: 0 Status: OK