Package: panp Version: 1.81.0 Command: /home/biocbuild/bbs-3.23-bioc/R/bin/R CMD build --keep-empty-dirs --no-resave-data panp StartedAt: 2025-11-20 19:12:18 -0500 (Thu, 20 Nov 2025) EndedAt: 2025-11-20 19:12:37 -0500 (Thu, 20 Nov 2025) EllapsedTime: 19.0 seconds RetCode: 0 Status: OK PackageFile: panp_1.81.0.tar.gz PackageFileSize: 671.3 KiB