Package: panp Version: 1.79.0 Command: /Library/Frameworks/R.framework/Resources/bin/R CMD INSTALL panp StartedAt: 2025-10-16 15:19:25 -0400 (Thu, 16 Oct 2025) EndedAt: 2025-10-16 15:19:27 -0400 (Thu, 16 Oct 2025) EllapsedTime: 2.6 seconds RetCode: 0 Status: OK