Package: panp Version: 1.79.0 Command: /Library/Frameworks/R.framework/Resources/bin/R CMD build --keep-empty-dirs --no-resave-data panp StartedAt: 2025-10-17 17:18:54 -0400 (Fri, 17 Oct 2025) EndedAt: 2025-10-17 17:19:04 -0400 (Fri, 17 Oct 2025) EllapsedTime: 9.1 seconds RetCode: 0 Status: OK PackageFile: panp_1.79.0.tar.gz PackageFileSize: 671.4 KiB