Package: panelcn.mops Version: 1.31.2 Command: /home/biocbuild/R/R/bin/R CMD INSTALL panelcn.mops StartedAt: 2025-10-13 21:13:01 -0000 (Mon, 13 Oct 2025) EndedAt: 2025-10-13 21:13:16 -0000 (Mon, 13 Oct 2025) EllapsedTime: 15.7 seconds RetCode: 0 Status: OK