Package: panelcn.mops Version: 1.31.2 Command: /home/biocbuild/R/R/bin/R CMD build --keep-empty-dirs --no-resave-data panelcn.mops StartedAt: 2025-10-14 02:26:29 -0000 (Tue, 14 Oct 2025) EndedAt: 2025-10-14 02:27:07 -0000 (Tue, 14 Oct 2025) EllapsedTime: 38.1 seconds RetCode: 0 Status: OK PackageFile: panelcn.mops_1.31.2.tar.gz PackageFileSize: 602 KiB