Package: panelcn.mops Version: 1.31.2 Command: F:\biocbuild\bbs-3.22-bioc\R\bin\R.exe CMD INSTALL panelcn.mops StartedAt: 2025-08-14 16:20:00 -0400 (Thu, 14 Aug 2025) EndedAt: 2025-08-14 16:20:22 -0400 (Thu, 14 Aug 2025) EllapsedTime: 22.5 seconds RetCode: 0 Status: OK