Package: panelcn.mops Version: 1.31.2 Command: chmod a+r panelcn.mops -R && F:\biocbuild\bbs-3.22-bioc\R\bin\R.exe CMD build --keep-empty-dirs --no-resave-data panelcn.mops StartedAt: 2025-08-14 22:10:24 -0400 (Thu, 14 Aug 2025) EndedAt: 2025-08-14 22:11:21 -0400 (Thu, 14 Aug 2025) EllapsedTime: 56.4 seconds RetCode: 0 Status: OK PackageFile: panelcn.mops_1.31.2.tar.gz PackageFileSize: 569.5 KiB