Package: panelcn.mops Version: 1.31.2 Command: rm -rf panelcn.mops.buildbin-libdir && mkdir panelcn.mops.buildbin-libdir && F:\biocbuild\bbs-3.22-bioc\R\bin\R.exe CMD INSTALL --build --library=panelcn.mops.buildbin-libdir panelcn.mops_1.31.2.tar.gz StartedAt: 2025-08-15 10:55:00 -0400 (Fri, 15 Aug 2025) EndedAt: 2025-08-15 10:55:31 -0400 (Fri, 15 Aug 2025) EllapsedTime: 31.4 seconds RetCode: 0 Status: OK PackageFile: panelcn.mops_1.31.2.zip PackageFileSize: 431.1 KiB