Package: panelcn.mops Version: 1.31.2 Command: /home/biocbuild/bbs-3.22-bioc/R/bin/R CMD check --install=check:panelcn.mops.install-out.txt --library=/home/biocbuild/bbs-3.22-bioc/R/site-library --timings panelcn.mops_1.31.2.tar.gz StartedAt: 2025-10-16 03:21:53 -0400 (Thu, 16 Oct 2025) EndedAt: 2025-10-16 03:24:12 -0400 (Thu, 16 Oct 2025) EllapsedTime: 139.2 seconds RetCode: 0 Status: OK CheckDir: panelcn.mops.Rcheck Warnings: 0