Package: panelcn.mops Version: 1.33.0 Command: /home/biocbuild/bbs-3.23-bioc/R/bin/R CMD INSTALL panelcn.mops StartedAt: 2025-11-04 15:33:24 -0500 (Tue, 04 Nov 2025) EndedAt: 2025-11-04 15:33:38 -0500 (Tue, 04 Nov 2025) EllapsedTime: 13.6 seconds RetCode: 0 Status: OK