Package: panelcn.mops Version: 1.33.0 Command: /home/biocbuild/bbs-3.23-bioc/R/bin/R CMD check --install=check:panelcn.mops.install-out.txt --library=/home/biocbuild/bbs-3.23-bioc/R/site-library --timings panelcn.mops_1.33.0.tar.gz StartedAt: 2025-11-27 02:26:42 -0500 (Thu, 27 Nov 2025) EndedAt: 2025-11-27 02:28:57 -0500 (Thu, 27 Nov 2025) EllapsedTime: 135.2 seconds RetCode: 0 Status: OK CheckDir: panelcn.mops.Rcheck Warnings: 0