Package: panelcn.mops Version: 1.33.0 Command: /home/biocbuild/bbs-3.23-bioc/R/bin/R CMD build --keep-empty-dirs --no-resave-data panelcn.mops StartedAt: 2025-11-04 19:06:25 -0500 (Tue, 04 Nov 2025) EndedAt: 2025-11-04 19:06:58 -0500 (Tue, 04 Nov 2025) EllapsedTime: 33.1 seconds RetCode: 0 Status: OK PackageFile: panelcn.mops_1.33.0.tar.gz PackageFileSize: 608.6 KiB