Package: pandaR Version: 1.41.0 Command: /home/biocbuild/R/R/bin/R CMD INSTALL pandaR StartedAt: 2025-10-09 21:04:52 -0000 (Thu, 09 Oct 2025) EndedAt: 2025-10-09 21:05:03 -0000 (Thu, 09 Oct 2025) EllapsedTime: 11.1 seconds RetCode: 0 Status: OK