Package: pandaR Version: 1.41.0 Command: /home/biocbuild/R/R/bin/R CMD build --keep-empty-dirs --no-resave-data pandaR StartedAt: 2025-10-10 02:51:06 -0000 (Fri, 10 Oct 2025) EndedAt: 2025-10-10 02:52:24 -0000 (Fri, 10 Oct 2025) EllapsedTime: 78.2 seconds RetCode: 0 Status: OK PackageFile: pandaR_1.41.0.tar.gz PackageFileSize: 8.664 MiB