Package: pandaR Version: 1.41.0 Command: /home/biocbuild/bbs-3.22-bioc/R/bin/R CMD check --install=check:pandaR.install-out.txt --library=/home/biocbuild/bbs-3.22-bioc/R/site-library --timings pandaR_1.41.0.tar.gz StartedAt: 2025-10-15 02:47:04 -0400 (Wed, 15 Oct 2025) EndedAt: 2025-10-15 02:50:01 -0400 (Wed, 15 Oct 2025) EllapsedTime: 177.2 seconds RetCode: 0 Status: WARNINGS CheckDir: pandaR.Rcheck Warnings: 2