Package: pandaR Version: 1.43.0 Command: /home/biocbuild/bbs-3.23-bioc/R/bin/R CMD check --install=check:pandaR.install-out.txt --library=/home/biocbuild/bbs-3.23-bioc/R/site-library --timings pandaR_1.43.0.tar.gz StartedAt: 2025-11-22 02:24:08 -0500 (Sat, 22 Nov 2025) EndedAt: 2025-11-22 02:26:39 -0500 (Sat, 22 Nov 2025) EllapsedTime: 151.2 seconds RetCode: 0 Status: WARNINGS CheckDir: pandaR.Rcheck Warnings: 2