Package: pandaR Version: 1.43.0 Command: /home/biocbuild/bbs-3.23-bioc/R/bin/R CMD build --keep-empty-dirs --no-resave-data pandaR StartedAt: 2025-11-20 19:11:47 -0500 (Thu, 20 Nov 2025) EndedAt: 2025-11-20 19:12:33 -0500 (Thu, 20 Nov 2025) EllapsedTime: 46.1 seconds RetCode: 0 Status: OK PackageFile: pandaR_1.43.0.tar.gz PackageFileSize: 8.679 MiB