Package: pairkat Version: 1.17.0 Command: /home/biocbuild/bbs-3.23-bioc/R/bin/R CMD build --keep-empty-dirs --no-resave-data pairkat StartedAt: 2025-11-21 19:13:28 -0500 (Fri, 21 Nov 2025) EndedAt: 2025-11-21 19:17:51 -0500 (Fri, 21 Nov 2025) EllapsedTime: 262.4 seconds RetCode: 0 Status: OK PackageFile: pairkat_1.17.0.tar.gz PackageFileSize: 817.1 KiB