Package: pairkat Version: 1.17.0 Command: /Library/Frameworks/R.framework/Resources/bin/R CMD INSTALL pairkat StartedAt: 2025-11-21 15:24:20 -0500 (Fri, 21 Nov 2025) EndedAt: 2025-11-21 15:24:52 -0500 (Fri, 21 Nov 2025) EllapsedTime: 32.4 seconds RetCode: 0 Status: OK