Package: pairkat Version: 1.15.0 Command: /Library/Frameworks/R.framework/Resources/bin/R CMD build --keep-empty-dirs --no-resave-data pairkat StartedAt: 2025-10-23 17:20:52 -0400 (Thu, 23 Oct 2025) EndedAt: 2025-10-23 17:25:11 -0400 (Thu, 23 Oct 2025) EllapsedTime: 259.0 seconds RetCode: 0 Status: OK PackageFile: pairkat_1.15.0.tar.gz PackageFileSize: 827.1 KiB