Package: pairedGSEA Version: 1.11.0 Command: /home/biocbuild/bbs-3.23-bioc/R/bin/R CMD build --keep-empty-dirs --no-resave-data pairedGSEA StartedAt: 2025-11-05 19:13:17 -0500 (Wed, 05 Nov 2025) EndedAt: 2025-11-05 19:16:21 -0500 (Wed, 05 Nov 2025) EllapsedTime: 183.2 seconds RetCode: 0 Status: OK PackageFile: pairedGSEA_1.11.0.tar.gz PackageFileSize: 565.5 KiB