Package: pairedGSEA Version: 1.9.0 Command: /Library/Frameworks/R.framework/Resources/bin/R CMD INSTALL pairedGSEA StartedAt: 2025-10-14 15:33:06 -0400 (Tue, 14 Oct 2025) EndedAt: 2025-10-14 15:33:53 -0400 (Tue, 14 Oct 2025) EllapsedTime: 46.8 seconds RetCode: 0 Status: OK