Package: pairedGSEA Version: 1.9.0 Command: rm -rf pairedGSEA.buildbin-libdir && mkdir pairedGSEA.buildbin-libdir && /Users/biocbuild/BBS/utils/build-universal.sh pairedGSEA_1.9.0.tar.gz /Library/Frameworks/R.framework/Resources/bin/R pairedGSEA.buildbin-libdir StartedAt: 2025-10-15 02:59:18 -0400 (Wed, 15 Oct 2025) EndedAt: 2025-10-15 03:00:10 -0400 (Wed, 15 Oct 2025) EllapsedTime: 52.1 seconds RetCode: 0 Status: OK PackageFile: pairedGSEA_1.9.0.tgz PackageFileSize: 682.7 KiB