Package: paircompviz Version: 1.47.0 Command: /home/biocbuild/R/R/bin/R CMD INSTALL paircompviz StartedAt: 2025-10-16 21:26:46 -0000 (Thu, 16 Oct 2025) EndedAt: 2025-10-16 21:26:50 -0000 (Thu, 16 Oct 2025) EllapsedTime: 4.6 seconds RetCode: 0 Status: OK