Package: paircompviz Version: 1.47.0 Command: /home/biocbuild/R/R/bin/R CMD build --keep-empty-dirs --no-resave-data paircompviz StartedAt: 2025-10-17 03:23:37 -0000 (Fri, 17 Oct 2025) EndedAt: 2025-10-17 03:23:59 -0000 (Fri, 17 Oct 2025) EllapsedTime: 22.0 seconds RetCode: 0 Status: OK PackageFile: paircompviz_1.47.0.tar.gz PackageFileSize: 343.9 KiB