Package: paircompviz Version: 1.47.0 Command: /home/biocbuild/bbs-3.22-bioc/R/bin/R CMD check --install=check:paircompviz.install-out.txt --library=/home/biocbuild/bbs-3.22-bioc/R/site-library --timings paircompviz_1.47.0.tar.gz StartedAt: 2025-10-08 02:47:36 -0400 (Wed, 08 Oct 2025) EndedAt: 2025-10-08 02:48:37 -0400 (Wed, 08 Oct 2025) EllapsedTime: 61.1 seconds RetCode: 0 Status: OK CheckDir: paircompviz.Rcheck Warnings: 0