Package: pageRank Version: 1.21.0 Command: /home/biocbuild/bbs-3.23-bioc/R/bin/R CMD INSTALL pageRank StartedAt: 2025-11-06 15:52:41 -0500 (Thu, 06 Nov 2025) EndedAt: 2025-11-06 15:53:18 -0500 (Thu, 06 Nov 2025) EllapsedTime: 36.9 seconds RetCode: 0 Status: OK