Package: pageRank Version: 1.21.0 Command: /home/biocbuild/bbs-3.23-bioc/R/bin/R CMD build --keep-empty-dirs --no-resave-data pageRank StartedAt: 2025-11-06 19:05:08 -0500 (Thu, 06 Nov 2025) EndedAt: 2025-11-06 19:07:06 -0500 (Thu, 06 Nov 2025) EllapsedTime: 117.1 seconds RetCode: 0 Status: OK PackageFile: pageRank_1.21.0.tar.gz PackageFileSize: 122.1 KiB