Package: pageRank Version: 1.19.0 Command: /Library/Frameworks/R.framework/Resources/bin/R CMD build --keep-empty-dirs --no-resave-data pageRank StartedAt: 2025-10-14 18:32:22 -0400 (Tue, 14 Oct 2025) EndedAt: 2025-10-14 18:36:40 -0400 (Tue, 14 Oct 2025) EllapsedTime: 257.1 seconds RetCode: 0 Status: OK PackageFile: pageRank_1.19.0.tar.gz PackageFileSize: 121.9 KiB