Package: pageRank Version: 1.19.0 Command: rm -rf pageRank.buildbin-libdir && mkdir pageRank.buildbin-libdir && /Users/biocbuild/BBS/utils/build-universal.sh pageRank_1.19.0.tar.gz /Library/Frameworks/R.framework/Resources/bin/R pageRank.buildbin-libdir StartedAt: 2025-10-15 02:59:13 -0400 (Wed, 15 Oct 2025) EndedAt: 2025-10-15 03:00:07 -0400 (Wed, 15 Oct 2025) EllapsedTime: 53.3 seconds RetCode: 0 Status: OK PackageFile: pageRank_1.19.0.tgz PackageFileSize: 175.1 KiB