Package: pageRank Version: 1.21.0 Maintainer: Hongxu Ding MaintainerEmail: hd2326 at columbia.edu git_url: https://git.bioconductor.org/packages/pageRank git_branch: devel git_last_commit: 36f7e99 git_last_commit_date: 2025-10-29 11:02:26 -0400 (Wed, 29 Oct 2025)