Package: packFinder Version: 1.21.0 Command: /Library/Frameworks/R.framework/Resources/bin/R CMD INSTALL packFinder StartedAt: 2025-10-10 15:22:50 -0400 (Fri, 10 Oct 2025) EndedAt: 2025-10-10 15:22:56 -0400 (Fri, 10 Oct 2025) EllapsedTime: 6.1 seconds RetCode: 0 Status: OK