Package: packFinder Version: 1.21.0 Command: /Library/Frameworks/R.framework/Resources/bin/R CMD build --keep-empty-dirs --no-resave-data packFinder StartedAt: 2025-10-12 18:27:26 -0400 (Sun, 12 Oct 2025) EndedAt: 2025-10-12 18:28:10 -0400 (Sun, 12 Oct 2025) EllapsedTime: 43.8 seconds RetCode: 0 Status: OK PackageFile: packFinder_1.21.0.tar.gz PackageFileSize: 1.133 MiB