Package: packFinder Version: 1.21.0 Command: /Library/Frameworks/R.framework/Resources/bin/R CMD INSTALL packFinder StartedAt: 2025-10-01 15:11:37 -0400 (Wed, 01 Oct 2025) EndedAt: 2025-10-01 15:11:38 -0400 (Wed, 01 Oct 2025) EllapsedTime: 1.0 seconds RetCode: 0 Status: OK