Package: packFinder Version: 1.21.0 Command: /Library/Frameworks/R.framework/Resources/bin/R CMD build --keep-empty-dirs --no-resave-data packFinder StartedAt: 2025-09-30 17:20:15 -0400 (Tue, 30 Sep 2025) EndedAt: 2025-09-30 17:20:20 -0400 (Tue, 30 Sep 2025) EllapsedTime: 5.1 seconds RetCode: 0 Status: OK PackageFile: packFinder_1.21.0.tar.gz PackageFileSize: 1.133 MiB