Package: packFinder Version: 1.21.0 Maintainer: Jack Gisby MaintainerEmail: jackgisby at gmail.com git_url: https://git.bioconductor.org/packages/packFinder git_branch: devel git_last_commit: 95e8185 git_last_commit_date: 2025-04-15 11:53:34 -0400 (Tue, 15 Apr 2025)