Package: pRolocGUI Version: 2.19.0 Command: /home/biocbuild/R/R/bin/R CMD INSTALL pRolocGUI StartedAt: 2025-10-02 21:05:33 -0000 (Thu, 02 Oct 2025) EndedAt: 2025-10-02 21:06:42 -0000 (Thu, 02 Oct 2025) EllapsedTime: 68.8 seconds RetCode: 0 Status: OK